BEGIN:VCALENDAR
VERSION:2.0
PRODID:-//Industry Update - ECPv6.15.20//NONSGML v1.0//EN
CALSCALE:GREGORIAN
METHOD:PUBLISH
X-ORIGINAL-URL:https://industryupdate.co.uk
X-WR-CALDESC:Events for Industry Update
REFRESH-INTERVAL;VALUE=DURATION:PT1H
X-Robots-Tag:noindex
X-PUBLISHED-TTL:PT1H
BEGIN:VTIMEZONE
TZID:Europe/London
BEGIN:DAYLIGHT
TZOFFSETFROM:+0000
TZOFFSETTO:+0100
TZNAME:BST
DTSTART:20250330T010000
END:DAYLIGHT
BEGIN:STANDARD
TZOFFSETFROM:+0100
TZOFFSETTO:+0000
TZNAME:GMT
DTSTART:20251026T010000
END:STANDARD
BEGIN:DAYLIGHT
TZOFFSETFROM:+0000
TZOFFSETTO:+0100
TZNAME:BST
DTSTART:20260329T010000
END:DAYLIGHT
BEGIN:STANDARD
TZOFFSETFROM:+0100
TZOFFSETTO:+0000
TZNAME:GMT
DTSTART:20261025T010000
END:STANDARD
BEGIN:DAYLIGHT
TZOFFSETFROM:+0000
TZOFFSETTO:+0100
TZNAME:BST
DTSTART:20270328T010000
END:DAYLIGHT
BEGIN:STANDARD
TZOFFSETFROM:+0100
TZOFFSETTO:+0000
TZNAME:GMT
DTSTART:20271031T010000
END:STANDARD
END:VTIMEZONE
BEGIN:VEVENT
DTSTART;TZID=Europe/London:20260520T090000
DTEND;TZID=Europe/London:20260521T170000
DTSTAMP:20260421T182022
CREATED:20250707T075105Z
LAST-MODIFIED:20250707T075105Z
UID:4336-1779267600-1779382800@industryupdate.co.uk
SUMMARY:CHEMUK 2026
DESCRIPTION:CHEMUK 2026 Group of Events\, the UK’s largest B2B trade show supporting the chemicals\, process engineering\, and formulated product industries. \nThe expo will present 600+ specialist exhibitors and 100+ expert speaker sessions\, split between five focused show zones: \n\nChemicals Supply Show Zone\nChemicals Management Show Zone\nProcess & Chemical Engineering Show Zone\nChemical Laboratory Show Zone\nFormulated Product Manufacture\n\nRegister to visit CHEMUK 2026
URL:https://industryupdate.co.uk/event/chemuk-2026
LOCATION:NEC\, Pendigo Way\, Marston Green\, Birmingham\, B40 1NT\, United Kingdom
ATTACH;FMTTYPE=image/jpeg:https://industryupdate.co.uk/wp-content/uploads/2025/07/CHEMUK2026_Event.jpg
ORGANIZER;CN="CHEMUK Expo":MAILTO:info@chemicalukexpo.com
END:VEVENT
END:VCALENDAR