BEGIN:VCALENDAR
VERSION:2.0
PRODID:-//Industry Update - ECPv6.15.20//NONSGML v1.0//EN
CALSCALE:GREGORIAN
METHOD:PUBLISH
X-WR-CALNAME:Industry Update
X-ORIGINAL-URL:https://industryupdate.co.uk
X-WR-CALDESC:Events for Industry Update
REFRESH-INTERVAL;VALUE=DURATION:PT1H
X-Robots-Tag:noindex
X-PUBLISHED-TTL:PT1H
BEGIN:VTIMEZONE
TZID:Europe/London
BEGIN:DAYLIGHT
TZOFFSETFROM:+0000
TZOFFSETTO:+0100
TZNAME:BST
DTSTART:20240331T010000
END:DAYLIGHT
BEGIN:STANDARD
TZOFFSETFROM:+0100
TZOFFSETTO:+0000
TZNAME:GMT
DTSTART:20241027T010000
END:STANDARD
BEGIN:DAYLIGHT
TZOFFSETFROM:+0000
TZOFFSETTO:+0100
TZNAME:BST
DTSTART:20250330T010000
END:DAYLIGHT
BEGIN:STANDARD
TZOFFSETFROM:+0100
TZOFFSETTO:+0000
TZNAME:GMT
DTSTART:20251026T010000
END:STANDARD
BEGIN:DAYLIGHT
TZOFFSETFROM:+0000
TZOFFSETTO:+0100
TZNAME:BST
DTSTART:20260329T010000
END:DAYLIGHT
BEGIN:STANDARD
TZOFFSETFROM:+0100
TZOFFSETTO:+0000
TZNAME:GMT
DTSTART:20261025T010000
END:STANDARD
END:VTIMEZONE
BEGIN:VEVENT
DTSTART;TZID=Europe/London:20250521T090000
DTEND;TZID=Europe/London:20250522T170000
DTSTAMP:20260421T111028
CREATED:20250107T094930Z
LAST-MODIFIED:20250107T095016Z
UID:4082-1747818000-1747933200@industryupdate.co.uk
SUMMARY:CHEMUK 2025
DESCRIPTION:CHEMUK launched in 2019 and is now established as the UK’s largest trade show supporting the R&D\, engineering\, manufacture\, and management of chemicals and formulated products. \nThe event will run in one giant hall at Birmingham’s NEC from 21-22 May 2025 and showcase over 550 specialist exhibitors across five show zones: the Chemicals Supply Show zone; the Chemical Management Show zone; the Process & Chemical Engineering Show zone; the Chemical Laboratory Show zone; and\, new for 2025\, the Formulated Product Manufacturer Show zone. \nAt the Chemicals Supply Show\, attending R&D\, product development\, and supply chain teams will be able to meet with specialist chemical manufacturers and distributors supporting industry covering: Chemical Manufacturing; Food Ingredients; Lubricants & Metalworking; Homecare & Industrial Cleaning; Water Treatment; Pharmaceuticals; Agriculture; Coatings\, Adhesives\, Sealants & Elastomers; Beauty & Personal Care\, plus many others. \nThe Chemicals Management Show zone will present specialist chemical supply chain organisations providing products\, services & equipment in the areas of: Chemical Logistics & Transportation\, Storage\, Containment\, Labelling and Packaging\, HSE Management\, REACH\, and Regulatory Compliance\, Waste Management & Recycling Services\, Skills\, Training & Recruitment and Business & Operational Support. \nThe Process & Chemical Engineering Show Zone will showcase the latest technology and specialist services to attending process\, plant\, and control engineering and safety professionals across the following sectors: Chemical\, Food & Beverage\, Pharma\, Oil & Gas\, Water & Waste\, and Energy. \nThe Chemical Laboratory Show zone will showcase specialist laboratory chemicals and laboratory equipment suppliers supporting Research & Development\, Analysis\, Process Design & Development\, Scale-Up\, and Quality Testing within the chemical & chemical Product Industries covering: Adhesives & Sealants; Bio Chemicals\, Materials & Fuels; Industrial Chemicals; Specialty Chemicals; Pharmaceutical; Polymers & Performance Materials; Lubricants; Automotive; Composites; Solvents; Cosmetics & Personal Care; Agrochemicals; Surface Treatments/Paints etc\, plus lots more. \nThe Formulated Product Manufacturer Show zone will present specialist contract service and industry partners providing: Specialist Ingredient Sourcing\, Toll & Contract Manufacturing Services\, Mixing & Blending\, Bottling & Filling\, Packing & Labelling\, Logistics\, Sample Management\, White Label & Private Label Services\, Aerosol & Dispensing Systems\, Small Batch & Big Batch\, Pilot Scale & Full Production run capabilities\, Order Processing\, Distribution Services\, Coding & Barcoding and Custom Formulation services. \nThe CHEMUK 2-day speaker programme will host some 100+ expert speakers discussing the big challenges and opportunities affecting the UK’s chemical and chemical product industries.
URL:https://industryupdate.co.uk/event/chemuk-2025
LOCATION:NEC\, Pendigo Way\, Marston Green\, Birmingham\, B40 1NT\, United Kingdom
ATTACH;FMTTYPE=image/jpeg:https://industryupdate.co.uk/wp-content/uploads/2025/01/CHEMUK2025_263_03.jpg
ORGANIZER;CN="UK Industry Events":MAILTO:info@ukindustryevents.com
END:VEVENT
END:VCALENDAR